BEGIN:VCALENDAR
VERSION:2.0
PRODID:-//hacksw/handcal//NONSGML v1.0//EN
CALSCALE:GREGORIAN
BEGIN:VEVENT
LOCATION:En línia
DESCRIPTION:
DTSTART:20210310T170000Z
DTEND:20210310T170000Z
SUMMARY:Foros 2021 | Dalila Rodrigues: “Ex situ: projectes de presentació d’art i arquitectura”
URL;VALUE=URI:https://arquitectes.cat/ca/content/foros-2021-dalila-rodrigues-%E2%80%9Cex-situ-projectes-de-presentaci%C3%B3-d%E2%80%99art-i-arquitectura%E2%80%9D
DTSTAMP:20260419T235827Z
UID:69e55003e9605
END:VEVENT
END:VCALENDAR