BEGIN:VCALENDAR
VERSION:2.0
PRODID:-//hacksw/handcal//NONSGML v1.0//EN
CALSCALE:GREGORIAN
BEGIN:VEVENT
LOCATION:
DESCRIPTION:
DTSTART:20210211T100000Z
DTEND:20210211T113000Z
SUMMARY:Campus Professional On-line: ADEC GLOBAL
URL;VALUE=URI:https://arquitectes.cat/ca/content/campus-professional-line-adec-global
DTSTAMP:20260424T122141Z
UID:69eb443590558
END:VEVENT
END:VCALENDAR