BEGIN:VCALENDAR
VERSION:2.0
PRODID:-//hacksw/handcal//NONSGML v1.0//EN
CALSCALE:GREGORIAN
BEGIN:VEVENT
LOCATION:
DESCRIPTION:
DTSTART:20210211T100000Z
DTEND:20210211T113000Z
SUMMARY:Campus Profesional On-line: ADEC GLOBAL
URL;VALUE=URI:https://arquitectes.cat/ca/node/35292
DTSTAMP:20260422T123923Z
UID:69e8a55bf3551
END:VEVENT
END:VCALENDAR