BEGIN:VCALENDAR
VERSION:2.0
PRODID:-//hacksw/handcal//NONSGML v1.0//EN
CALSCALE:GREGORIAN
BEGIN:VEVENT
LOCATION:Barcelona
DESCRIPTION:
DTSTART:20210113T133000Z
DTEND:20210214T133000Z
SUMMARY:Exposició: "PROJECTES (1983-2020). Manolo Laguillo"
URL;VALUE=URI:https://arquitectes.cat/ca/content/exposici%C3%B3-projectes-1983-2020-manolo-laguillo
DTSTAMP:20260419T195809Z
UID:69e517b10d548
END:VEVENT
END:VCALENDAR