BEGIN:VCALENDAR
VERSION:2.0
PRODID:-//hacksw/handcal//NONSGML v1.0//EN
CALSCALE:GREGORIAN
BEGIN:VEVENT
LOCATION:En línia
DESCRIPTION:
DTSTART:20210114T140000Z
DTEND:20210114T140000Z
SUMMARY:Seminari "La cuina de Barcelona en època moderna\, segles XVI-XVIII"
URL;VALUE=URI:https://arquitectes.cat/ca/content/seminari-la-cuina-de-barcelona-en-%C3%A8poca-moderna-segles-xvi-xviii
DTSTAMP:20260420T033642Z
UID:69e5832aab609
END:VEVENT
END:VCALENDAR