BEGIN:VCALENDAR
VERSION:2.0
PRODID:-//hacksw/handcal//NONSGML v1.0//EN
CALSCALE:GREGORIAN
BEGIN:VEVENT
LOCATION:En línia
DESCRIPTION:
DTSTART:20210117T150000Z
DTEND:20210117T150000Z
SUMMARY:Scalae: Tardes de Acentos Gatos #1. Vivienda
URL;VALUE=URI:https://arquitectes.cat/ca/content/scalae-tardes-de-acentos-gatos-1-vivienda
DTSTAMP:20260419T155048Z
UID:69e4ddb80b6fc
END:VEVENT
END:VCALENDAR