BEGIN:VCALENDAR
VERSION:2.0
PRODID:-//hacksw/handcal//NONSGML v1.0//EN
CALSCALE:GREGORIAN
BEGIN:VEVENT
LOCATION:Girona
DESCRIPTION:
DTSTART:20201205T100000Z
DTEND:20210405T060000Z
SUMMARY:Exposició: "Enric Ansesa. Camins"
URL;VALUE=URI:https://arquitectes.cat/ca/content/exposici%C3%B3-enric-ansesa-camins
DTSTAMP:20260420T034530Z
UID:69e5853a209ca
END:VEVENT
END:VCALENDAR