BEGIN:VCALENDAR
VERSION:2.0
PRODID:-//hacksw/handcal//NONSGML v1.0//EN
CALSCALE:GREGORIAN
BEGIN:VEVENT
LOCATION:En línia
DESCRIPTION:
DTSTART:20201219T080000Z
DTEND:20201219T080000Z
SUMMARY:19 DIC | Taller infantil 20.01 Chiribitas de Navidad
URL;VALUE=URI:https://arquitectes.cat/ca/node/35099
DTSTAMP:20260419T205028Z
UID:69e523f420b95
END:VEVENT
END:VCALENDAR