BEGIN:VCALENDAR
VERSION:2.0
PRODID:-//hacksw/handcal//NONSGML v1.0//EN
CALSCALE:GREGORIAN
BEGIN:VEVENT
LOCATION:En línia
DESCRIPTION:
DTSTART:20201203T170000Z
DTEND:20201203T170000Z
SUMMARY:Betamapathon. Acte de valoració
URL;VALUE=URI:https://arquitectes.cat/ca/content/betamapathon-acte-de-valoraci%C3%B3
DTSTAMP:20260425T155748Z
UID:69ecc85c85458
END:VEVENT
END:VCALENDAR