BEGIN:VCALENDAR
VERSION:2.0
PRODID:-//hacksw/handcal//NONSGML v1.0//EN
CALSCALE:GREGORIAN
BEGIN:VEVENT
LOCATION:Barcelona
DESCRIPTION:
DTSTART:20201209T160000Z
DTEND:20201209T160000Z
SUMMARY:Presentació del llibre "Palacios comunales atemporales"
URL;VALUE=URI:https://arquitectes.cat/ca/content/presentaci%C3%B3-del-llibre-palacios-comunales-atemporales
DTSTAMP:20260425T025518Z
UID:69ec10f6d59c2
END:VEVENT
END:VCALENDAR