BEGIN:VCALENDAR
VERSION:2.0
PRODID:-//hacksw/handcal//NONSGML v1.0//EN
CALSCALE:GREGORIAN
BEGIN:VEVENT
LOCATION:Barcelona
DESCRIPTION:
DTSTART:20201126T084500Z
DTEND:20201213T184500Z
SUMMARY:Exposició "Travelling d'Olors"
URL;VALUE=URI:https://arquitectes.cat/ca/content/exposici%C3%B3-travelling-dolors
DTSTAMP:20260419T151126Z
UID:69e4d47e80515
END:VEVENT
END:VCALENDAR