BEGIN:VCALENDAR
VERSION:2.0
PRODID:-//hacksw/handcal//NONSGML v1.0//EN
CALSCALE:GREGORIAN
BEGIN:VEVENT
LOCATION:En línia
DESCRIPTION:
DTSTART:20201127T170000Z
DTEND:20201127T170000Z
SUMMARY:Taula rodona: Clàssics del disseny. Les reedicions modernistes de BD\, Escofet i Mobles 114
URL;VALUE=URI:https://arquitectes.cat/ca/content/taula-rodona-cl%C3%A0ssics-del-disseny-les-reedicions-modernistes-de-bd-escofet-i-mobles-114
DTSTAMP:20260426T015701Z
UID:69ed54cde2edb
END:VEVENT
END:VCALENDAR