BEGIN:VCALENDAR
VERSION:2.0
PRODID:-//hacksw/handcal//NONSGML v1.0//EN
CALSCALE:GREGORIAN
BEGIN:VEVENT
LOCATION:
DESCRIPTION:
DTSTART:20201203T150000Z
DTEND:20201203T163000Z
SUMMARY:Campus Profesional On-line: Bioeconomic
URL;VALUE=URI:https://arquitectes.cat/ca/node/35016
DTSTAMP:20260423T015713Z
UID:69e960596ca9c
END:VEVENT
END:VCALENDAR