BEGIN:VCALENDAR
VERSION:2.0
PRODID:-//hacksw/handcal//NONSGML v1.0//EN
CALSCALE:GREGORIAN
BEGIN:VEVENT
LOCATION:En línia
DESCRIPTION:
DTSTART:20201119T140000Z
DTEND:20201119T140000Z
SUMMARY:Seminari on line: "La Barcelona de les barricades\, 1820-1843"
URL;VALUE=URI:https://arquitectes.cat/ca/content/seminari-line-la-barcelona-de-les-barricades-1820-1843
DTSTAMP:20260420T074056Z
UID:69e5bc6825546
END:VEVENT
END:VCALENDAR