BEGIN:VCALENDAR
VERSION:2.0
PRODID:-//hacksw/handcal//NONSGML v1.0//EN
CALSCALE:GREGORIAN
BEGIN:VEVENT
LOCATION:En línia
DESCRIPTION:
DTSTART:20201118T100000Z
DTEND:20201118T100000Z
SUMMARY:Dimecres Tecnològics. Eines informàtiques per al despatx: COAC EmaaS\, Microsoft 365 i DevoluIVA
URL;VALUE=URI:https://arquitectes.cat/ca/content/dimecres-tecnol%C3%B2gics-eines-inform%C3%A0tiques-al-despatx-coac-emaas-microsoft-365-i-devoluiva
DTSTAMP:20260422T032552Z
UID:69e823a018c45
END:VEVENT
END:VCALENDAR