BEGIN:VCALENDAR
VERSION:2.0
PRODID:-//hacksw/handcal//NONSGML v1.0//EN
CALSCALE:GREGORIAN
BEGIN:VEVENT
LOCATION:En línia
DESCRIPTION:
DTSTART:20201111T163000Z
DTEND:20201111T163000Z
SUMMARY:FAD Live! «Aporten: projectes per a un món millor»
URL;VALUE=URI:https://arquitectes.cat/ca/content/fad-live-%C2%ABaporten-projectes-un-m%C3%B3n-millor%C2%BB
DTSTAMP:20260419T203244Z
UID:69e51fccc9c0f
END:VEVENT
END:VCALENDAR