BEGIN:VCALENDAR
VERSION:2.0
PRODID:-//hacksw/handcal//NONSGML v1.0//EN
CALSCALE:GREGORIAN
BEGIN:VEVENT
LOCATION:Barcelona
DESCRIPTION:
DTSTART:20210113T100000Z
DTEND:20210113T100000Z
SUMMARY:Cicle CulturTalks - Calderon Folch Studio
URL;VALUE=URI:https://arquitectes.cat/ca/content/cicle-culturtalks-calderon-folch-studio
DTSTAMP:20260419T185459Z
UID:69e508e34c6d7
END:VEVENT
END:VCALENDAR