BEGIN:VCALENDAR
VERSION:2.0
PRODID:-//hacksw/handcal//NONSGML v1.0//EN
CALSCALE:GREGORIAN
BEGIN:VEVENT
LOCATION:Barcelona
DESCRIPTION:
DTSTART:20201216T100000Z
DTEND:20201216T100000Z
SUMMARY:Cicle CulturTalks - Una Arquitetos
URL;VALUE=URI:https://arquitectes.cat/ca/content/cicle-culturtalks-una-arquitetos
DTSTAMP:20260422T205655Z
UID:69e919f7bf268
END:VEVENT
END:VCALENDAR