BEGIN:VCALENDAR
VERSION:2.0
PRODID:-//hacksw/handcal//NONSGML v1.0//EN
CALSCALE:GREGORIAN
BEGIN:VEVENT
LOCATION:
DESCRIPTION:
DTSTART:20201119T150000Z
DTEND:20201119T150000Z
SUMMARY:Campus Profesional On-line: Bioeconomic
URL;VALUE=URI:https://arquitectes.cat/ca/node/34892
DTSTAMP:20260423T070921Z
UID:69e9a9810dda0
END:VEVENT
END:VCALENDAR