BEGIN:VCALENDAR
VERSION:2.0
PRODID:-//hacksw/handcal//NONSGML v1.0//EN
CALSCALE:GREGORIAN
BEGIN:VEVENT
LOCATION:En línia
DESCRIPTION:
DTSTART:20201124T073000Z
DTEND:20201124T073000Z
SUMMARY:Se celebra la 2a edició de l'Àgora d'Urbanisme\, organitzada per l'AAUC
URL;VALUE=URI:https://arquitectes.cat/ca/content/se-celebra-la-2a-edici%C3%B3-de-l%C3%A0gora-durbanisme-organitzada-laauc
DTSTAMP:20260419T225819Z
UID:69e541eb8ef1c
END:VEVENT
END:VCALENDAR