BEGIN:VCALENDAR
VERSION:2.0
PRODID:-//hacksw/handcal//NONSGML v1.0//EN
CALSCALE:GREGORIAN
BEGIN:VEVENT
LOCATION:
DESCRIPTION:
DTSTART:20201024T080000Z
DTEND:20201025T170000Z
SUMMARY:48H Open House Barcelona
URL;VALUE=URI:https://arquitectes.cat/ca/content/48h-open-house-barcelona-0
DTSTAMP:20260423T070841Z
UID:69e9a9590128c
END:VEVENT
END:VCALENDAR