BEGIN:VCALENDAR
VERSION:2.0
PRODID:-//hacksw/handcal//NONSGML v1.0//EN
CALSCALE:GREGORIAN
BEGIN:VEVENT
LOCATION:En línia
DESCRIPTION:
DTSTART:20201105T170000Z
DTEND:20201105T170000Z
SUMMARY:Arquitectura & FM: Cuidando las ciudades del futuro
URL;VALUE=URI:https://arquitectes.cat/ca/node/34818
DTSTAMP:20260422T051215Z
UID:69e83c8f80637
END:VEVENT
END:VCALENDAR