BEGIN:VCALENDAR
VERSION:2.0
PRODID:-//hacksw/handcal//NONSGML v1.0//EN
CALSCALE:GREGORIAN
BEGIN:VEVENT
LOCATION:Barcelona
DESCRIPTION:
DTSTART:20210204T170000Z
DTEND:20210204T170000Z
SUMMARY:"Patrimoni contemporani. Reutilitzar com a paradigma"
URL;VALUE=URI:https://arquitectes.cat/ca/content/patrimoni-contemporani-reutilitzar-com-paradigma
DTSTAMP:20260425T234416Z
UID:69ed35b0344ad
END:VEVENT
END:VCALENDAR