BEGIN:VCALENDAR
VERSION:2.0
PRODID:-//hacksw/handcal//NONSGML v1.0//EN
CALSCALE:GREGORIAN
BEGIN:VEVENT
LOCATION:En línia
DESCRIPTION:
DTSTART:20201102T170000Z
DTEND:20201102T170000Z
SUMMARY:Arquinset'20: "Intervencions efímeres i patrimoni arquitectònic"
URL;VALUE=URI:https://arquitectes.cat/ca/content/arquinset20-intervencions-ef%C3%ADmeres-i-patrimoni-arquitect%C3%B2nic
DTSTAMP:20260419T173920Z
UID:69e4f72843368
END:VEVENT
END:VCALENDAR