BEGIN:VCALENDAR
VERSION:2.0
PRODID:-//hacksw/handcal//NONSGML v1.0//EN
CALSCALE:GREGORIAN
BEGIN:VEVENT
LOCATION:En línia
DESCRIPTION:
DTSTART:20201022T170000Z
DTEND:20201022T170000Z
SUMMARY:Conferència: "El món que ens espera. Repensant la casa"
URL;VALUE=URI:https://arquitectes.cat/ca/content/confer%C3%A8ncia-el-m%C3%B3n-que-ens-espera-repensant-la-casa
DTSTAMP:20260425T182128Z
UID:69ecea0819a3a
END:VEVENT
END:VCALENDAR