BEGIN:VCALENDAR
VERSION:2.0
PRODID:-//hacksw/handcal//NONSGML v1.0//EN
CALSCALE:GREGORIAN
BEGIN:VEVENT
LOCATION:Barcelona
DESCRIPTION:
DTSTART:20201015T061500Z
DTEND:20201115T180000Z
SUMMARY:La ciutat saludable - La ciutat dels quinze minuts
URL;VALUE=URI:https://arquitectes.cat/ca/content/la-ciutat-saludable-la-ciutat-dels-quinze-minuts
DTSTAMP:20260423T003006Z
UID:69e94bee95598
END:VEVENT
END:VCALENDAR