BEGIN:VCALENDAR
VERSION:2.0
PRODID:-//hacksw/handcal//NONSGML v1.0//EN
CALSCALE:GREGORIAN
BEGIN:VEVENT
LOCATION:Barcelona
DESCRIPTION:
DTSTART:20201015T130000Z
DTEND:20210129T180000Z
SUMMARY:Exposició: "La teva experiència i la meva\, la teva exposició i la meva"
URL;VALUE=URI:https://arquitectes.cat/ca/content/exposici%C3%B3-la-teva-experi%C3%A8ncia-i-la-meva-la-teva-exposici%C3%B3-i-la-meva
DTSTAMP:20260425T234449Z
UID:69ed35d1b8682
END:VEVENT
END:VCALENDAR