BEGIN:VCALENDAR
VERSION:2.0
PRODID:-//hacksw/handcal//NONSGML v1.0//EN
CALSCALE:GREGORIAN
BEGIN:VEVENT
LOCATION:Vic
DESCRIPTION:
DTSTART:20201005T170000Z
DTEND:20201005T170000Z
SUMMARY:Entrega de premios del 5º Concurso Fotográfico COAC-CC
URL;VALUE=URI:https://arquitectes.cat/ca/node/34702
DTSTAMP:20260426T033304Z
UID:69ed6b50df938
END:VEVENT
END:VCALENDAR