BEGIN:VCALENDAR
VERSION:2.0
PRODID:-//hacksw/handcal//NONSGML v1.0//EN
CALSCALE:GREGORIAN
BEGIN:VEVENT
LOCATION:En línia
DESCRIPTION:
DTSTART:20201029T170000Z
DTEND:20201029T170000Z
SUMMARY:Arquitectura\, cooperación y espiritualidad
URL;VALUE=URI:https://arquitectes.cat/ca/node/34700
DTSTAMP:20260421T233315Z
UID:69e7ed1b94e5b
END:VEVENT
END:VCALENDAR