BEGIN:VCALENDAR
VERSION:2.0
PRODID:-//hacksw/handcal//NONSGML v1.0//EN
CALSCALE:GREGORIAN
BEGIN:VEVENT
LOCATION:Barcelona
DESCRIPTION:
DTSTART:20201004T080000Z
DTEND:20201004T080000Z
SUMMARY:"Diumenge Solidari" al Recinte Modernista de Sant Pau - Fundació Kālida
URL;VALUE=URI:https://arquitectes.cat/ca/content/diumenge-solidari-al-recinte-modernista-de-sant-pau-fundaci%C3%B3-k%C4%81lida
DTSTAMP:20260425T130945Z
UID:69eca0f9ef089
END:VEVENT
END:VCALENDAR