BEGIN:VCALENDAR
VERSION:2.0
PRODID:-//hacksw/handcal//NONSGML v1.0//EN
CALSCALE:GREGORIAN
BEGIN:VEVENT
LOCATION:Vic
DESCRIPTION:
DTSTART:20201006T141500Z
DTEND:20201031T131500Z
SUMMARY:Exposició del 5è Concurs Fotogràfic COAC-CC
URL;VALUE=URI:https://arquitectes.cat/ca/content/exposici%C3%B3-del-5%C3%A8-concurs-fotogr%C3%A0fic-coac-cc
DTSTAMP:20260420T034009Z
UID:69e583f9bf672
END:VEVENT
END:VCALENDAR