BEGIN:VCALENDAR
VERSION:2.0
PRODID:-//hacksw/handcal//NONSGML v1.0//EN
CALSCALE:GREGORIAN
BEGIN:VEVENT
LOCATION:Girona
DESCRIPTION:
DTSTART:20201006T080000Z
DTEND:20210205T160000Z
SUMMARY:Exposició 50 anys de l’Arxiu Històric del COAC\, a la Casa Masó
URL;VALUE=URI:https://arquitectes.cat/ca/content/exposici%C3%B3-50-anys-de-l%E2%80%99arxiu-hist%C3%B2ric-del-coac-la-casa-mas%C3%B3
DTSTAMP:20260425T124536Z
UID:69ec9b503562e
END:VEVENT
END:VCALENDAR