BEGIN:VCALENDAR
VERSION:2.0
PRODID:-//hacksw/handcal//NONSGML v1.0//EN
CALSCALE:GREGORIAN
BEGIN:VEVENT
LOCATION:Barcelona
DESCRIPTION:
DTSTART:20200710T113000Z
DTEND:20210207T130000Z
SUMMARY:Exposició: "Acció. Una història provisional dels 90"
URL;VALUE=URI:https://arquitectes.cat/ca/content/exposici%C3%B3-acci%C3%B3-una-hist%C3%B2ria-provisional-dels-90
DTSTAMP:20260419T223504Z
UID:69e53c7878527
END:VEVENT
END:VCALENDAR