BEGIN:VCALENDAR
VERSION:2.0
PRODID:-//hacksw/handcal//NONSGML v1.0//EN
CALSCALE:GREGORIAN
BEGIN:VEVENT
LOCATION:Barcelona
DESCRIPTION:
DTSTART:20201014T160000Z
DTEND:20201014T160000Z
SUMMARY:Sons\, sorolls\, silencis. Cap a una ecologia acústica urbana a l'era digital
URL;VALUE=URI:https://arquitectes.cat/ca/content/sons-sorolls-silencis-cap-una-ecologia-ac%C3%BAstica-urbana-lera-digital
DTSTAMP:20260420T035751Z
UID:69e5881fd69fa
END:VEVENT
END:VCALENDAR