BEGIN:VCALENDAR
VERSION:2.0
PRODID:-//hacksw/handcal//NONSGML v1.0//EN
CALSCALE:GREGORIAN
BEGIN:VEVENT
LOCATION:Barcelona
DESCRIPTION:
DTSTART:20200924T080000Z
DTEND:20200924T080000Z
SUMMARY:La Mercè 2020 - Portes obertes al Museu del Disseny
URL;VALUE=URI:https://arquitectes.cat/ca/content/la-merc%C3%A8-2020-portes-obertes-al-museu-del-disseny
DTSTAMP:20260419T220303Z
UID:69e534f73e656
END:VEVENT
END:VCALENDAR