BEGIN:VCALENDAR
VERSION:2.0
PRODID:-//hacksw/handcal//NONSGML v1.0//EN
CALSCALE:GREGORIAN
BEGIN:VEVENT
LOCATION:Barcelona
DESCRIPTION:
DTSTART:20200930T153000Z
DTEND:20200930T153000Z
SUMMARY:Parlem de l'espai públic i col·lectiu a la ciutat\, dins el cicle de debats sobre Superilles
URL;VALUE=URI:https://arquitectes.cat/ca/content/parlem-de-lespai-p%C3%BAblic-i-col%C2%B7lectiu-la-ciutat-dins-el-cicle-de-debats-sobre-superilles
DTSTAMP:20260425T154057Z
UID:69ecc4694d38d
END:VEVENT
END:VCALENDAR