BEGIN:VCALENDAR
VERSION:2.0
PRODID:-//hacksw/handcal//NONSGML v1.0//EN
CALSCALE:GREGORIAN
BEGIN:VEVENT
LOCATION:Figueres
DESCRIPTION:
DTSTART:20200924T170000Z
DTEND:20200924T170000Z
SUMMARY:Conferència "Sant Pere i la reconstrucció de la ciutat en la postguerra"\, a càrrec de Joan Falgueras
URL;VALUE=URI:https://arquitectes.cat/ca/content/confer%C3%A8ncia-sant-pere-i-la-reconstrucci%C3%B3-de-la-ciutat-en-la-postguerra-c%C3%A0rrec-de-joan
DTSTAMP:20260419T162819Z
UID:69e4e683cb52e
END:VEVENT
END:VCALENDAR