BEGIN:VCALENDAR
VERSION:2.0
PRODID:-//hacksw/handcal//NONSGML v1.0//EN
CALSCALE:GREGORIAN
BEGIN:VEVENT
LOCATION:En línia
DESCRIPTION:
DTSTART:20200917T150000Z
DTEND:20200917T150000Z
SUMMARY:Debatimos en el COAC el valor urbanístico de la vivienda protegida de alquiler
URL;VALUE=URI:https://arquitectes.cat/ca/node/34546
DTSTAMP:20260420T091633Z
UID:69e5d2d19bea2
END:VEVENT
END:VCALENDAR