BEGIN:VCALENDAR
VERSION:2.0
PRODID:-//hacksw/handcal//NONSGML v1.0//EN
CALSCALE:GREGORIAN
BEGIN:VEVENT
LOCATION:En línia
DESCRIPTION:
DTSTART:20200730T150000Z
DTEND:20200730T150000Z
SUMMARY:Teatime with champagne. Transformacions de la llum 
URL;VALUE=URI:https://arquitectes.cat/ca/content/teatime-champagne-transformacions-de-la-llum
DTSTAMP:20260426T053952Z
UID:69ed89081f01f
END:VEVENT
END:VCALENDAR