BEGIN:VCALENDAR
VERSION:2.0
PRODID:-//hacksw/handcal//NONSGML v1.0//EN
CALSCALE:GREGORIAN
BEGIN:VEVENT
LOCATION:En línia
DESCRIPTION:
DTSTART:20200917T150000Z
DTEND:20200917T150000Z
SUMMARY:Debatem al COAC el valor urbanístic de l'habitatge protegit de lloguer
URL;VALUE=URI:https://arquitectes.cat/ca/content/debatem-al-coac-el-valor-urban%C3%ADstic-de-lhabitatge-protegit-de-lloguer
DTSTAMP:20260419T204452Z
UID:69e522a434744
END:VEVENT
END:VCALENDAR