BEGIN:VCALENDAR
VERSION:2.0
PRODID:-//hacksw/handcal//NONSGML v1.0//EN
CALSCALE:GREGORIAN
BEGIN:VEVENT
LOCATION:En línia
DESCRIPTION:
DTSTART:20200720T180000Z
DTEND:20200720T180000Z
SUMMARY:Matèria Bosc: Hisao Suzuki 
URL;VALUE=URI:https://arquitectes.cat/ca/content/mat%C3%A8ria-bosc-hisao-suzuki
DTSTAMP:20260423T001531Z
UID:69e948832331f
END:VEVENT
END:VCALENDAR