BEGIN:VCALENDAR
VERSION:2.0
PRODID:-//hacksw/handcal//NONSGML v1.0//EN
CALSCALE:GREGORIAN
BEGIN:VEVENT
LOCATION:En línia
DESCRIPTION:
DTSTART:20200724T180000Z
DTEND:20200724T180000Z
SUMMARY:Matèria Bosc: José Manuel Castanheira
URL;VALUE=URI:https://arquitectes.cat/ca/content/mat%C3%A8ria-bosc-jos%C3%A9-manuel-castanheira
DTSTAMP:20260426T000343Z
UID:69ed3a3f646a7
END:VEVENT
END:VCALENDAR