BEGIN:VCALENDAR
VERSION:2.0
PRODID:-//hacksw/handcal//NONSGML v1.0//EN
CALSCALE:GREGORIAN
BEGIN:VEVENT
LOCATION:En línia
DESCRIPTION:
DTSTART:20200717T180000Z
DTEND:20200717T180000Z
SUMMARY:Matèria Bosc: Smiljan Radic
URL;VALUE=URI:https://arquitectes.cat/ca/content/mat%C3%A8ria-bosc-smiljan-radic
DTSTAMP:20260419T190510Z
UID:69e50b46af1d9
END:VEVENT
END:VCALENDAR