BEGIN:VCALENDAR
VERSION:2.0
PRODID:-//hacksw/handcal//NONSGML v1.0//EN
CALSCALE:GREGORIAN
BEGIN:VEVENT
LOCATION:Girona
DESCRIPTION:
DTSTART:20200729T170000Z
DTEND:20200729T170000Z
SUMMARY:Visita guiada a l'exposició "Falsos verdaders. L'art de l'engany"
URL;VALUE=URI:https://arquitectes.cat/ca/content/visita-guiada-lexposici%C3%B3-falsos-verdaders-lart-de-lengany
DTSTAMP:20260420T052900Z
UID:69e59d7cc647e
END:VEVENT
END:VCALENDAR