BEGIN:VCALENDAR
VERSION:2.0
PRODID:-//hacksw/handcal//NONSGML v1.0//EN
CALSCALE:GREGORIAN
BEGIN:VEVENT
LOCATION:En línia
DESCRIPTION:
DTSTART:20200716T160000Z
DTEND:20200716T160000Z
SUMMARY:Jurat Premis FAD 2020: Debat i reflexions sobres les tendències de l’arquitectura i interiorisme espanyols i internacionals
URL;VALUE=URI:https://arquitectes.cat/ca/content/jurat-premis-fad-2020-debat-i-reflexions-sobres-les-tend%C3%A8ncies-de-l%E2%80%99arquitectura-i
DTSTAMP:20260420T031410Z
UID:69e57de2610f7
END:VEVENT
END:VCALENDAR