BEGIN:VCALENDAR
VERSION:2.0
PRODID:-//hacksw/handcal//NONSGML v1.0//EN
CALSCALE:GREGORIAN
BEGIN:VEVENT
LOCATION:Barcelona
DESCRIPTION:
DTSTART:20200722T080000Z
DTEND:20200831T180000Z
SUMMARY:Sound Pavilion - Katarzyna Krakowiak
URL;VALUE=URI:https://arquitectes.cat/ca/content/sound-pavilion-katarzyna-krakowiak
DTSTAMP:20260426T034203Z
UID:69ed6d6b0c6de
END:VEVENT
END:VCALENDAR