BEGIN:VCALENDAR
VERSION:2.0
PRODID:-//hacksw/handcal//NONSGML v1.0//EN
CALSCALE:GREGORIAN
BEGIN:VEVENT
LOCATION:En línia
DESCRIPTION:
DTSTART:20200703T143000Z
DTEND:20200725T173000Z
SUMMARY:Visites guiades virtuals al Pavelló Mies van der Rohe: Ruptura\, fluïdesa i multiplicitat dimensional
URL;VALUE=URI:https://arquitectes.cat/ca/content/visites-guiades-virtuals-al-pavell%C3%B3-mies-van-der-rohe-ruptura-flu%C3%AFdesa-i-multiplicitat
DTSTAMP:20260419T145259Z
UID:69e4d02b6fc0b
END:VEVENT
END:VCALENDAR