BEGIN:VCALENDAR
VERSION:2.0
PRODID:-//hacksw/handcal//NONSGML v1.0//EN
CALSCALE:GREGORIAN
BEGIN:VEVENT
LOCATION:Girona
DESCRIPTION:
DTSTART:20191219T074500Z
DTEND:20201108T170000Z
SUMMARY:Exposició: "Modest Urgell\, més enllà de l'horitzó"
URL;VALUE=URI:https://arquitectes.cat/ca/content/exposici%C3%B3-modest-urgell-m%C3%A9s-enll%C3%A0-de-lhoritz%C3%B3
DTSTAMP:20260419T200040Z
UID:69e51848e9e7c
END:VEVENT
END:VCALENDAR