BEGIN:VCALENDAR
VERSION:2.0
PRODID:-//hacksw/handcal//NONSGML v1.0//EN
CALSCALE:GREGORIAN
BEGIN:VEVENT
LOCATION:Tarragona
DESCRIPTION:
DTSTART:20200916T220000Z
DTEND:20201130T220000Z
SUMMARY:Curso básico de prevención y seguridad en materia de incendios
URL;VALUE=URI:https://arquitectes.cat/ca/node/34326
DTSTAMP:20260420T003418Z
UID:69e5586a9b2e8
END:VEVENT
END:VCALENDAR