BEGIN:VCALENDAR
VERSION:2.0
PRODID:-//hacksw/handcal//NONSGML v1.0//EN
CALSCALE:GREGORIAN
BEGIN:VEVENT
LOCATION:Tarragona
DESCRIPTION:
DTSTART:20201102T220000Z
DTEND:20201123T220000Z
SUMMARY:Curso de cálculos sencillos y aspectos constructivos básicos para el proyecto de estructuras y cimientos
URL;VALUE=URI:https://arquitectes.cat/ca/node/34322
DTSTAMP:20260419T182830Z
UID:69e502ae163c9
END:VEVENT
END:VCALENDAR